BEGIN:VCALENDAR
VERSION:2.0
PRODID:-//Sabre//Sabre VObject 3.5.3//EN
CALSCALE:GREGORIAN
BEGIN:VTIMEZONE
TZID:Europe/London
BEGIN:STANDARD
TZNAME:GMT
DTSTART:19701025T020000
RRULE:FREQ=YEARLY;BYMONTH=10;BYDAY=-1SU
TZOFFSETFROM:+0100
TZOFFSETTO:+0000
END:STANDARD
BEGIN:DAYLIGHT
TZNAME:BST
DTSTART:19700329T010000
RRULE:FREQ=YEARLY;BYMONTH=3;BYDAY=-1SU
TZOFFSETFROM:+0000
TZOFFSETTO:+0100
END:DAYLIGHT
END:VTIMEZONE
BEGIN:VEVENT
UID:event_210585@romulus-singers.co.uk
DTSTART;TZID=Europe/London:20260426T150000
DTEND;TZID=Europe/London:20260426T170000
SUMMARY:My Heart's Friend: Spring Concert
DESCRIPTION:Join us for the return of our cream tea concert with music to f
 eed your soul! Ticket price includes a glass of non-alcoholic fizz\, scone
  with cream and jam\, and tea or coffee.\n\nFor full event details\, visit
 : https://www.romulus-singers.co.uk/myheartsfriend
LOCATION:Holy Angels Parish Hall\, Wicker Lane\, Hale Barns\, Altrincham\, 
 WA15 0HG
URL:https://www.romulus-singers.co.uk/myheartsfriend
END:VEVENT
END:VCALENDAR
